BEGIN:VCALENDAR
VERSION:2.0
PRODID:-//gruender-mv.de//EN
BEGIN:VEVENT
UID:69e546eab4c66@gruender-mv.de
DTSTAMP:20260419T211938Z
DTSTART:20260521T150000
DTEND:20260521T160000
SUMMARY:Webinar: Die Kraft der Bewertungen – Ihr Weg zu mehr Sichtbarkeit und Vertrauen
DESCRIPTION:
URL:https://gruender-mv.de/events/webinar-die-kraft-der-bewertungen-ihr-weg-zu-mehr-sichtbarkeit-und-vertrauen-3/
END:VEVENT
END:VCALENDAR
