BEGIN:VCALENDAR
VERSION:2.0
PRODID:-//gruender-mv.de//EN
BEGIN:VEVENT
UID:69e546d2632ae@gruender-mv.de
DTSTAMP:20260419T211914Z
DTSTART:20260521T160000
DTEND:20260521T180000
SUMMARY:IHK im BiZ: Finanzierung und Förderung einer Unternehmensgründung
DESCRIPTION:
URL:https://gruender-mv.de/events/ihk-im-biz-finanzierung-und-foerderung-einer-unternehmensgruendung-6/
END:VEVENT
END:VCALENDAR
