BEGIN:VCALENDAR
VERSION:2.0
PRODID:-//gruender-mv.de//EN
BEGIN:VEVENT
UID:69e5453d2cc73@gruender-mv.de
DTSTAMP:20260419T211229Z
DTSTART:20260526T090000
DTEND:20260526T160000
SUMMARY:Beratungstag Unternehmensnachfolge 
DESCRIPTION:
URL:https://gruender-mv.de/events/beratungstag-unternehmensnachfolge-15/
END:VEVENT
END:VCALENDAR
