BEGIN:VCALENDAR
VERSION:2.0
PRODID:-//gruender-mv.de//EN
BEGIN:VEVENT
UID:69e54543cdf7d@gruender-mv.de
DTSTAMP:20260419T211235Z
DTSTART:20260519T090000
DTEND:20260519T150000
SUMMARY:IHK-Beratungssprechtag Unternehmensnachfolge (online) 
DESCRIPTION:
URL:https://gruender-mv.de/events/ihk-beratungssprechtag-unternehmensnachfolge-online-19/
END:VEVENT
END:VCALENDAR
