BEGIN:VCALENDAR
VERSION:2.0
PRODID:-//gruender-mv.de//EN
BEGIN:VEVENT
UID:69e54609e77e7@gruender-mv.de
DTSTAMP:20260419T211553Z
DTSTART:20260528T090000
DTEND:20260528T110000
SUMMARY:Frauenfrühstückstreff #Klock9 im Mai
DESCRIPTION:
URL:https://gruender-mv.de/events/frauenfruehstueckstreff-klock9-im-mai/
END:VEVENT
END:VCALENDAR
