BEGIN:VCALENDAR
VERSION:2.0
PRODID:-//gruender-mv.de//EN
BEGIN:VEVENT
UID:69e545cb661b6@gruender-mv.de
DTSTAMP:20260419T211451Z
DTSTART:20260520T083000
DTEND:20260520T093000
SUMMARY:Business Women Walk im Mai
DESCRIPTION:
URL:https://gruender-mv.de/events/business-women-walk-im-mai/
END:VEVENT
END:VCALENDAR
