BEGIN:VCALENDAR
VERSION:2.0
PRODID:-//gruender-mv.de//EN
BEGIN:VEVENT
UID:69e4d82950ade@gruender-mv.de
DTSTAMP:20260419T132705Z
DTSTART:20211001T110000
DTEND:20211001T140000
SUMMARY:Gründersprechstunde
DESCRIPTION:
URL:https://gruender-mv.de/events/gruendersprechstunde/
END:VEVENT
END:VCALENDAR
