BEGIN:VCALENDAR
VERSION:2.0
PRODID:-//gruender-mv.de//EN
BEGIN:VEVENT
UID:69e4d7dbf3a1b@gruender-mv.de
DTSTAMP:20260419T132547Z
DTSTART:20210720T100000
DTEND:19011213T214552
SUMMARY:Blender vs. Minecraft
DESCRIPTION:
URL:https://gruender-mv.de/events/blender-vs-minecraft/
END:VEVENT
END:VCALENDAR
