BEGIN:VCALENDAR
VERSION:2.0
PRODID:-//gruender-mv.de//EN
BEGIN:VEVENT
UID:69e4d90312a48@gruender-mv.de
DTSTAMP:20260419T133043Z
DTSTART:20211209T200000
DTEND:20211209T220000
SUMMARY:Digiti-Stammtisch zum Thema eHealth und Telematik
DESCRIPTION:
URL:https://gruender-mv.de/events/digiti-stammtisch-zum-thema-ehealth-und-telematik/
END:VEVENT
END:VCALENDAR
