BEGIN:VCALENDAR
VERSION:2.0
PRODID:-//gruender-mv.de//EN
BEGIN:VEVENT
UID:69e6186632b83@gruender-mv.de
DTSTAMP:20260420T121326Z
DTSTART:20211126T150000
DTEND:20211126T170000
SUMMARY:Der 3D Weihnachtsworkshop
DESCRIPTION:
URL:https://gruender-mv.de/events/der-3d-weihnachtsworkshop/
END:VEVENT
END:VCALENDAR
