BEGIN:VCALENDAR
VERSION:2.0
PRODID:-//gruender-mv.de//EN
BEGIN:VEVENT
UID:69e4d82ac5357@gruender-mv.de
DTSTAMP:20260419T132706Z
DTSTART:20220125T170000
DTEND:20220125T200000
SUMMARY:Onlineworkshop: Challenge accepted
DESCRIPTION:
URL:https://gruender-mv.de/events/onlineworkshop-challenge-accepted/
END:VEVENT
END:VCALENDAR
