BEGIN:VCALENDAR
VERSION:2.0
PRODID:-//gruender-mv.de//EN
BEGIN:VEVENT
UID:69e61a025946f@gruender-mv.de
DTSTAMP:20260420T122018Z
DTSTART:20220224T100000
DTEND:20220224T120000
SUMMARY:Frauen- und Gründerinnenfrühstück
DESCRIPTION:
URL:https://gruender-mv.de/events/frauen-und-gruenderinnenfruehstueck-2/
END:VEVENT
END:VCALENDAR
