BEGIN:VCALENDAR
VERSION:2.0
PRODID:-//gruender-mv.de//EN
BEGIN:VEVENT
UID:69e4d98341bd0@gruender-mv.de
DTSTAMP:20260419T133251Z
DTSTART:20220402T120000
DTEND:20220402T180000
SUMMARY:CoCreationLab + Tag der offenen Tür
DESCRIPTION:
URL:https://gruender-mv.de/events/cocreationlab-tag-der-offenen-tuer/
END:VEVENT
END:VCALENDAR
