BEGIN:VCALENDAR
VERSION:2.0
PRODID:-//gruender-mv.de//EN
BEGIN:VEVENT
UID:69e4d89094225@gruender-mv.de
DTSTAMP:20260419T132848Z
DTSTART:20220323T160000
DTEND:20220323T190000
SUMMARY:Smart Schaum Projekt des SPEICHERS
DESCRIPTION:
URL:https://gruender-mv.de/events/smart-schaum-projekt-des-speichers/
END:VEVENT
END:VCALENDAR
