BEGIN:VCALENDAR
VERSION:2.0
PRODID:-//gruender-mv.de//EN
BEGIN:VEVENT
UID:69e4d7e19f564@gruender-mv.de
DTSTAMP:20260419T132553Z
DTSTART:20220512T140000
DTEND:20220512T190000
SUMMARY:Impulstag Persönlichkeit von KultICH MV
DESCRIPTION:
URL:https://gruender-mv.de/events/impulstag-persoenlichkeit-von-kultich-mv/
END:VEVENT
END:VCALENDAR
