BEGIN:VCALENDAR
VERSION:2.0
PRODID:-//gruender-mv.de//EN
BEGIN:VEVENT
UID:69e618852d27f@gruender-mv.de
DTSTAMP:20260420T121357Z
DTSTART:20220413T174500
DTEND:20220413T191500
SUMMARY:Vortragsreihe Digitalisierung und Künstliche Intelligenz 2022
DESCRIPTION:
URL:https://gruender-mv.de/events/vortragsreihe-digitalisierung-und-kuenstliche-intelligenz-2022/
END:VEVENT
END:VCALENDAR
