BEGIN:VCALENDAR
VERSION:2.0
PRODID:-//gruender-mv.de//EN
BEGIN:VEVENT
UID:69e619d1c703b@gruender-mv.de
DTSTAMP:20260420T121929Z
DTSTART:20220521T130000
DTEND:20220521T200000
SUMMARY:Workshop: intelligentes Bewässerungssystem
DESCRIPTION:
URL:https://gruender-mv.de/events/workshop-intelligentes-bewaesserungssystem/
END:VEVENT
END:VCALENDAR
