BEGIN:VCALENDAR
VERSION:2.0
PRODID:-//gruender-mv.de//EN
BEGIN:VEVENT
UID:69e4e77cca098@gruender-mv.de
DTSTAMP:20260419T143228Z
DTSTART:20221004T100000
DTEND:20221004T200000
SUMMARY:Let&#039;s Build Makertown 4.0
DESCRIPTION:
URL:https://gruender-mv.de/events/lets-build-makertown-4-0/
END:VEVENT
END:VCALENDAR
