BEGIN:VCALENDAR
VERSION:2.0
PRODID:-//gruender-mv.de//EN
BEGIN:VEVENT
UID:69e75b1b9d59f@gruender-mv.de
DTSTAMP:20260421T111019Z
DTSTART:20220912T163000
DTEND:20220912T183000
SUMMARY:Robotic Workshop &quot;Ozebots&quot;
DESCRIPTION:
URL:https://gruender-mv.de/events/robotic-workshop-ozebots/
END:VEVENT
END:VCALENDAR
