BEGIN:VCALENDAR
VERSION:2.0
PRODID:-//gruender-mv.de//EN
BEGIN:VEVENT
UID:69e4d82927df5@gruender-mv.de
DTSTAMP:20260419T132705Z
DTSTART:20220921T200000
DTEND:20220921T200000
SUMMARY:Pub Quiz Night
DESCRIPTION:
URL:https://gruender-mv.de/events/pub-quiz-night/
END:VEVENT
END:VCALENDAR
