BEGIN:VCALENDAR
VERSION:2.0
PRODID:-//gruender-mv.de//EN
BEGIN:VEVENT
UID:69e618849f7d4@gruender-mv.de
DTSTAMP:20260420T121356Z
DTSTART:20220927T210000
DTEND:20220927T210000
SUMMARY:Gründungsstammtisch
DESCRIPTION:
URL:https://gruender-mv.de/events/gruendungsstammtisch/
END:VEVENT
END:VCALENDAR
