BEGIN:VCALENDAR
VERSION:2.0
PRODID:-//gruender-mv.de//EN
BEGIN:VEVENT
UID:69e61865d2a5c@gruender-mv.de
DTSTAMP:20260420T121325Z
DTSTART:20221214T160000
DTEND:20221214T180000
SUMMARY:Follow Up: 5G &amp; IoT Infrastrukturen
DESCRIPTION:
URL:https://gruender-mv.de/events/follow-up-5g-iot-infrastrukturen/
END:VEVENT
END:VCALENDAR
