BEGIN:VCALENDAR
VERSION:2.0
PRODID:-//gruender-mv.de//EN
BEGIN:VEVENT
UID:69e4d73ba992e@gruender-mv.de
DTSTAMP:20260419T132307Z
DTSTART:20230120T103000
DTEND:20230120T190000
SUMMARY:1. Smart City Brunch 2023
DESCRIPTION:
URL:https://gruender-mv.de/events/1-smart-city-brunch-2023/
END:VEVENT
END:VCALENDAR
