BEGIN:VCALENDAR
VERSION:2.0
PRODID:-//gruender-mv.de//EN
BEGIN:VEVENT
UID:69e4d92293898@gruender-mv.de
DTSTAMP:20260419T133114Z
DTSTART:20230217T103000
DTEND:20230217T190000
SUMMARY:Smart City Stammtisch
DESCRIPTION:
URL:https://gruender-mv.de/events/smart-city-stammtisch/
END:VEVENT
END:VCALENDAR
