BEGIN:VCALENDAR
VERSION:2.0
PRODID:-//gruender-mv.de//EN
BEGIN:VEVENT
UID:69e4d9819fd9d@gruender-mv.de
DTSTAMP:20260419T133249Z
DTSTART:20230905T030000
DTEND:19700101T010000
SUMMARY:Lotsensprechstunde in Grevesmühlen
DESCRIPTION:
URL:https://gruender-mv.de/events/lotsensprechstunde-in-grevesmuehlen/
END:VEVENT
END:VCALENDAR
