BEGIN:VCALENDAR
VERSION:2.0
PRODID:-//gruender-mv.de//EN
BEGIN:VEVENT
UID:69e619206751c@gruender-mv.de
DTSTAMP:20260420T121632Z
DTSTART:20231026T160000
DTEND:20231026T180000
SUMMARY:IHK im BiZ: &quot;Erfolgreiches Marketing für Existenzgründer&quot;
DESCRIPTION:
URL:https://gruender-mv.de/events/ihk-im-biz-erfolgreiches-marketing-fuer-existenzgruender-2/
END:VEVENT
END:VCALENDAR
