BEGIN:VCALENDAR
VERSION:2.0
PRODID:-//gruender-mv.de//EN
BEGIN:VEVENT
UID:69e618bf2f5dc@gruender-mv.de
DTSTAMP:20260420T121455Z
DTSTART:20231214T160000
DTEND:20231214T180000
SUMMARY:IHK im BiZ: &quot;Finanzierung und Förderung einer Unternehmensgründung&quot;
DESCRIPTION:
URL:https://gruender-mv.de/events/ihk-im-biz-finanzierung-und-foerderung-einer-unternehmensgruendung-3/
END:VEVENT
END:VCALENDAR
