BEGIN:VCALENDAR
VERSION:2.0
PRODID:-//gruender-mv.de//EN
BEGIN:VEVENT
UID:69e4d7dc3e370@gruender-mv.de
DTSTAMP:20260419T132548Z
DTSTART:20230426T203000
DTEND:19700101T010000
SUMMARY:Speed Networking MV
DESCRIPTION:
URL:https://gruender-mv.de/events/speed-networking-mv/
END:VEVENT
END:VCALENDAR
