BEGIN:VCALENDAR
VERSION:2.0
PRODID:-//gruender-mv.de//EN
BEGIN:VEVENT
UID:69e4d9e10c11d@gruender-mv.de
DTSTAMP:20260419T133425Z
DTSTART:20230414T210000
DTEND:20230415T000000
SUMMARY:20. Gründungsstammtisch Greifswald mit Himmel der Möwen
DESCRIPTION:Regelmäßig trifft sich die Gründungsszene der Region Greifswald zum entspannten und informellen Austausch in gemütlicher Location.
URL:https://gruender-mv.de/events/20-gruendungsstammtisch-greifswald-mit-himmel-der-moewen/
END:VEVENT
END:VCALENDAR
