BEGIN:VCALENDAR
VERSION:2.0
PRODID:-//gruender-mv.de//EN
BEGIN:VEVENT
UID:69e4d829a962d@gruender-mv.de
DTSTAMP:20260419T132705Z
DTSTART:20230530T180000
DTEND:20230530T200000
SUMMARY:Fachkräftesicherung durch Digitalisierung
DESCRIPTION:Erleben Sie die Zukunft der Fachkräftegewinnung: Entdecken Sie die Möglichkeiten der Digitalisierung!
URL:https://gruender-mv.de/events/fachkraeftesicherung-durch-digitalisierung/
END:VEVENT
END:VCALENDAR
