BEGIN:VCALENDAR
VERSION:2.0
PRODID:-//gruender-mv.de//EN
BEGIN:VEVENT
UID:69e4d797cdd6b@gruender-mv.de
DTSTAMP:20260419T132439Z
DTSTART:20230503T030000
DTEND:19700101T010000
SUMMARY:Beratungstag
DESCRIPTION:
URL:https://gruender-mv.de/events/beratungstag/
END:VEVENT
END:VCALENDAR
