BEGIN:VCALENDAR
VERSION:2.0
PRODID:-//gruender-mv.de//EN
BEGIN:VEVENT
UID:69e61a38cbb9a@gruender-mv.de
DTSTAMP:20260420T122112Z
DTSTART:20230412T180000
DTEND:19700101T010000
SUMMARY:fly &amp; surv April
DESCRIPTION:
URL:https://gruender-mv.de/events/fly-surv-april/
END:VEVENT
END:VCALENDAR
