BEGIN:VCALENDAR
VERSION:2.0
PRODID:-//gruender-mv.de//EN
BEGIN:VEVENT
UID:69e4d7dfc3aaa@gruender-mv.de
DTSTAMP:20260419T132551Z
DTSTART:20230414T120000
DTEND:19700101T010010
SUMMARY:Unternehmerisches Denken und Handeln
DESCRIPTION:
URL:https://gruender-mv.de/events/unternehmerisches-denken-und-handeln/
END:VEVENT
END:VCALENDAR
