BEGIN:VCALENDAR
VERSION:2.0
PRODID:-//gruender-mv.de//EN
BEGIN:VEVENT
UID:69e6186568bab@gruender-mv.de
DTSTAMP:20260420T121325Z
DTSTART:20230418T190000
DTEND:19700101T010017
SUMMARY:Pitchen, reden, präsentieren (Präsentationstraining I)
DESCRIPTION:
URL:https://gruender-mv.de/events/pitchen-reden-praesentieren-praesentationstraining-i/
END:VEVENT
END:VCALENDAR
