BEGIN:VCALENDAR
VERSION:2.0
PRODID:-//gruender-mv.de//EN
BEGIN:VEVENT
UID:69e50732a9797@gruender-mv.de
DTSTAMP:20260419T164746Z
DTSTART:20230330T210000
DTEND:20230330T230000
SUMMARY:DigiTi-Stammtisch: Bewusster Umgang mit Medien
DESCRIPTION:
URL:https://gruender-mv.de/events/digiti-stammtisch-bewusster-umgang-mit-medien/
END:VEVENT
END:VCALENDAR
