BEGIN:VCALENDAR
VERSION:2.0
PRODID:-//gruender-mv.de//EN
BEGIN:VEVENT
UID:69e605b1dbf34@gruender-mv.de
DTSTAMP:20260420T105337Z
DTSTART:20230404T210000
DTEND:20230404T223000
SUMMARY:8. Werkstatt-Treffen: ChatGPT &amp; Digitale Sichtbarkeit
DESCRIPTION:
URL:https://gruender-mv.de/events/8-werkstatt-treffen-chatgpt-digitale-sichtbarkeit/
END:VEVENT
END:VCALENDAR
