BEGIN:VCALENDAR
VERSION:2.0
PRODID:-//gruender-mv.de//EN
BEGIN:VEVENT
UID:69e4d88ff073a@gruender-mv.de
DTSTAMP:20260419T132847Z
DTSTART:20230511T150000
DTEND:20230511T200000
SUMMARY:Regionalkonferenz &quot;Digitale Infrastrukturen - Lebensader unserer smarten Region&quot;
DESCRIPTION:
URL:https://gruender-mv.de/events/regionalkonferenz-digitale-infrastrukturen-lebensader-unserer-smarten-region/
END:VEVENT
END:VCALENDAR
