BEGIN:VCALENDAR
VERSION:2.0
PRODID:-//gruender-mv.de//EN
BEGIN:VEVENT
UID:69e618664fea6@gruender-mv.de
DTSTAMP:20260420T121326Z
DTSTART:20241008T143000
DTEND:20241022T160000
SUMMARY:IHK-Online-Sprint Nachhaltigkeitsberichterstattung
DESCRIPTION:
URL:https://gruender-mv.de/events/ihk-online-sprint-nachhaltigkeitsberichterstattung/
END:VEVENT
END:VCALENDAR
