BEGIN:VCALENDAR
VERSION:2.0
PRODID:-//gruender-mv.de//EN
BEGIN:VEVENT
UID:69e4d921c43b3@gruender-mv.de
DTSTAMP:20260419T133113Z
DTSTART:20230426T030000
DTEND:19700101T010000
SUMMARY:Co Working Festival
DESCRIPTION:
URL:https://gruender-mv.de/events/co-working-festival/
END:VEVENT
END:VCALENDAR
