BEGIN:VCALENDAR
VERSION:2.0
PRODID:-//gruender-mv.de//EN
BEGIN:VEVENT
UID:69e618c6122f6@gruender-mv.de
DTSTAMP:20260420T121502Z
DTSTART:20230517T180000
DTEND:20230517T210000
SUMMARY:Fit2Start - Workshop 4: Markt &amp; Alleinstellungsmerkmale
DESCRIPTION:Als Vorbereitung zum UNIQUE Ideenwettbewerb könnt ihr in fünf kostenlosen Workshops alles lernen, was ihr für die Einreichung benötigt.
URL:https://gruender-mv.de/events/fit2start-workshop-4-markt-alleinstellungsmerkmale/
END:VEVENT
END:VCALENDAR
