BEGIN:VCALENDAR
VERSION:2.0
PRODID:-//gruender-mv.de//EN
BEGIN:VEVENT
UID:69e6191f2ada6@gruender-mv.de
DTSTAMP:20260420T121631Z
DTSTART:20230531T203000
DTEND:19700101T010000
SUMMARY:Zusammen isst man weniger allein
DESCRIPTION:
URL:https://gruender-mv.de/events/zusammen-isst-man-weniger-allein/
END:VEVENT
END:VCALENDAR
