BEGIN:VCALENDAR
VERSION:2.0
PRODID:-//gruender-mv.de//EN
BEGIN:VEVENT
UID:69e61a0544707@gruender-mv.de
DTSTAMP:20260420T122021Z
DTSTART:20230530T190000
DTEND:19700101T010017
SUMMARY:Franchise, Unternehmensnachfolge und -bewertung
DESCRIPTION:
URL:https://gruender-mv.de/events/franchise-unternehmensnachfolge-und-bewertung/
END:VEVENT
END:VCALENDAR
