BEGIN:VCALENDAR
VERSION:2.0
PRODID:-//gruender-mv.de//EN
BEGIN:VEVENT
UID:69e61883550cd@gruender-mv.de
DTSTAMP:20260420T121355Z
DTSTART:20230923T133000
DTEND:19700101T010000
SUMMARY:Spazier Dich Glücklich
DESCRIPTION:
URL:https://gruender-mv.de/events/spazier-dich-gluecklich/
END:VEVENT
END:VCALENDAR
