BEGIN:VCALENDAR
VERSION:2.0
PRODID:-//gruender-mv.de//EN
BEGIN:VEVENT
UID:69e619d004e9c@gruender-mv.de
DTSTAMP:20260420T121928Z
DTSTART:20230516T140000
DTEND:20230516T160000
SUMMARY:BITS&amp;MATJES #6: Energieeffizienz durch Digitalisierung
DESCRIPTION:BITS&amp;MATJES #6: Energieeffizienz durch Digitalisierung
URL:https://gruender-mv.de/events/bitsmatjes-6-energieeffizienz-durch-digitalisierung/
END:VEVENT
END:VCALENDAR
