BEGIN:VCALENDAR
VERSION:2.0
PRODID:-//gruender-mv.de//EN
BEGIN:VEVENT
UID:69e619d13ff57@gruender-mv.de
DTSTAMP:20260420T121929Z
DTSTART:20230517T140000
DTEND:19700101T010000
SUMMARY:Beratersprechstunde Robert Kowalski
DESCRIPTION:
URL:https://gruender-mv.de/events/beratersprechstunde-robert-kowalski/
END:VEVENT
END:VCALENDAR
