BEGIN:VCALENDAR
VERSION:2.0
PRODID:-//gruender-mv.de//EN
BEGIN:VEVENT
UID:69e4d9e0aee6b@gruender-mv.de
DTSTAMP:20260419T133424Z
DTSTART:20230620T160000
DTEND:20230620T171500
SUMMARY: Webinar: Kreislaufwirtschaft in der Unternehmenspraxis 
DESCRIPTION:
URL:https://gruender-mv.de/events/webinar-kreislaufwirtschaft-in-der-unternehmenspraxis/
END:VEVENT
END:VCALENDAR
