BEGIN:VCALENDAR
VERSION:2.0
PRODID:-//gruender-mv.de//EN
BEGIN:VEVENT
UID:69e4d88c9f045@gruender-mv.de
DTSTAMP:20260419T132844Z
DTSTART:20230613T150000
DTEND:19700101T010000
SUMMARY:InnovationPort on Tour Google my Business - Das einfachste Social Media Format
DESCRIPTION:
URL:https://gruender-mv.de/events/innovationport-on-tour-google-my-business-das-einfachste-social-media-format/
END:VEVENT
END:VCALENDAR
