BEGIN:VCALENDAR
VERSION:2.0
PRODID:-//gruender-mv.de//EN
BEGIN:VEVENT
UID:69e61a39070b6@gruender-mv.de
DTSTAMP:20260420T122113Z
DTSTART:20230530T100000
DTEND:20230610T013000
SUMMARY:Last Call Ideenwettbewerb
DESCRIPTION:Dein erster Aufschlag für die Ideenskizze ist fertig? Es gibt noch Fragen? – Wende Dich an uns, wir unterstützen Dich!
URL:https://gruender-mv.de/events/last-call-ideenwettbewerb/
END:VEVENT
END:VCALENDAR
